BEGIN:VCALENDAR
VERSION:2.0
PRODID:-//ChamberMaster//Event Calendar 2.0//EN
METHOD:PUBLISH
X-PUBLISHED-TTL:P3D
REFRESH-INTERVAL:P3D
CALSCALE:GREGORIAN
BEGIN:VEVENT
DTSTART:20260520T210000Z
DTEND:20260520T230000Z
X-MICROSOFT-CDO-ALLDAYEVENT:FALSE
SUMMARY:Grand Opening & Ribbon Cutting - French Florist
DESCRIPTION:Join The Greater Delray Beach Chamber of Commerce as they partner with French Florist for their Ribbon Cutting Ceremony! \n\n\n\nLite bites and drinks will be served from 5 to 7pm with raffles and giveaways.
X-ALT-DESC;FMTTYPE=text/html:Join The Greater Delray Beach Chamber of Commerce as they partner with French Florist for their Ribbon Cutting Ceremony!&nbsp\;<br />\n<br />\nLite bites and drinks will be served from 5 to 7pm with raffles and giveaways.&nbsp\;
LOCATION:5601 N Federal Hwy\, Suite 9 Boca Raton\, FL 33487
UID:e.2153.9393
SEQUENCE:3
DTSTAMP:20260422T224016Z
URL:https://web.delraybeach.com/events/details/grand-opening-ribbon-cutting-french-florist-9393
END:VEVENT

END:VCALENDAR
