BEGIN:VCALENDAR
VERSION:2.0
PRODID:-//ChamberMaster//Event Calendar 2.0//EN
METHOD:PUBLISH
X-PUBLISHED-TTL:P3D
REFRESH-INTERVAL:P3D
CALSCALE:GREGORIAN
BEGIN:VEVENT
DTSTART:20260506T140000Z
DTEND:20260506T160000Z
X-MICROSOFT-CDO-ALLDAYEVENT:FALSE
SUMMARY:Grand Opening & Ribbon Cutting - Shake Shack
DESCRIPTION:Join The Greater Delray Beach Chamber of Commerce as they partner with Shake Shack for their Ribbon Cutting Ceremony! \n\n\n\nGuests should plan to arrive around 9:30am to 9:45am. The ribbon cutting will be promptly at 10am.\n\nShake Shack's doors will officially open for the first time at 10:30am.\n\nGoodies will include custom swag for the first guests while supplies last. Plus\, $1.00 from the sale of every burger and chicken sandwich will be donated to the Palm Beach County Food Bank.
X-ALT-DESC;FMTTYPE=text/html:<p>Join The Greater Delray Beach Chamber of Commerce as they partner with Shake Shack for their Ribbon Cutting Ceremony!&nbsp\;<br />\n<br />\nGuests should plan to arrive around 9:30am to 9:45am. The ribbon cutting will be promptly at 10am.<br />\nShake Shack&#39\;s doors will officially open for the first time at 10:30am.<br />\nGoodies will include custom swag for the first guests while supplies last. Plus\, $1.00 from the sale of every burger and&nbsp\;chicken sandwich will be donated to the Palm Beach County Food Bank.&nbsp\;&nbsp\;</p>\n
LOCATION:1560 S. Federal Highway Delray Beach\, FL 33483
UID:e.2153.9392
SEQUENCE:3
DTSTAMP:20260422T224017Z
URL:https://web.delraybeach.com/events/details/grand-opening-ribbon-cutting-shake-shack-9392
END:VEVENT

END:VCALENDAR
